BEGIN:VCALENDAR
VERSION:2.0
PRODID:-//SoulJoy by Stephanie Cime - ECPv6.13.2.1//NONSGML v1.0//EN
CALSCALE:GREGORIAN
METHOD:PUBLISH
X-WR-CALNAME:SoulJoy by Stephanie Cime
X-ORIGINAL-URL:https://souljoy.be
X-WR-CALDESC:Evenementen voor SoulJoy by Stephanie Cime
REFRESH-INTERVAL;VALUE=DURATION:PT1H
X-Robots-Tag:noindex
X-PUBLISHED-TTL:PT1H
BEGIN:VTIMEZONE
TZID:UTC
BEGIN:STANDARD
TZOFFSETFROM:+0000
TZOFFSETTO:+0000
TZNAME:UTC
DTSTART:20240101T000000
END:STANDARD
END:VTIMEZONE
BEGIN:VEVENT
DTSTART;TZID=UTC:20240815T080000
DTEND;TZID=UTC:20240815T170000
DTSTAMP:20260421T130836
CREATED:20240815T093646Z
LAST-MODIFIED:20240815T093646Z
UID:4318-1723708800-1723741200@souljoy.be
SUMMARY:Day Retreat: Stiltedag: Intunen op Je Innerlijke Wijsheid
DESCRIPTION:Stiltedag: Intunen op Je Innerlijke Wijsheid \nTijdens deze Stiltedag leer je hoe je diep contact kunt maken met je innerlijke wijsheid door stilte\, meditatie\, en ontspanning. In een wereld vol prikkels en ruis is het vaak moeilijk om echt te luisteren naar je innerlijke stem. Door deze dag in stilte door te brengen\, creëer je ruimte voor introspectie en het vinden van de wijsheid die in je schuilt. \nLocatie en Tijden: De Stiltedag vindt plaats bij SOULJOY SANCTUARY van 10:00-17:00. \nProgramma: \n\n10:00 – 10:30: Welkom en uitleg van de stiltedag.\n10:30 – 11:00: Meditatieve begeleide ademhalingsessie om je voor te bereiden op de stilte.\n11:00 – 12:00: Stille meditatie om in contact te komen met je innerlijke wijsheid.\n12:00 – 13:00: Diepe begeleide relaxatie en ontspanning van het zenuwstelsel.\n13:00 – 14:30: Gezonde en heerlijke lunch in stilte.\n14:30 – 15:30: Stille wandeling en tijd voor introspectie.\n15:30 – 16:00: Bewuste ademhalingsessie om de stilte te verdiepen en innerlijke wijsheid te versterken.\n16:00 – 17:00: Afsluitende sessie met ruimte voor reflectie en napraten bij een kopje thee en versnaperingen.\n\nPrijs: \n€ 198 incl. 21% BTW\nHeerlijke lunch\, koffie\, thee\, en versnaperingen zijn inbegrepen.\nAnnulering en Verplaatsen: Bij annulering meer dan 48 uur voor de day retreat kun je kosteloos doorschuiven naar een volgende datum. Een refund is niet mogelijk. Bij annulering binnen 48 uur voor de day retreat bedragen de annuleringskosten €95. \nMeld je snel aan: plaatsen zijn beperkt!
URL:https://souljoy.be/event/day-retreat-stiltedag-intunen-op-je-innerlijke-wijsheid/
CATEGORIES:Day Retreats
ATTACH;FMTTYPE=image/jpeg:https://souljoy.be/wp-content/uploads/2024/08/240109_Cime-164.jpg
END:VEVENT
BEGIN:VEVENT
DTSTART;TZID=UTC:20240810T080000
DTEND;TZID=UTC:20240810T170000
DTSTAMP:20260421T130836
CREATED:20240815T093450Z
LAST-MODIFIED:20240817T055428Z
UID:4316-1723276800-1723309200@souljoy.be
SUMMARY:Day Retreat: Zelfliefde en Innerlijke Balans
DESCRIPTION: Zelfliefde en Innerlijke Balans \nTijdens deze heerlijke ontspannen dag leer je hoe je contact kunt maken met je innerlijke gevoelswereld door zelfliefde\, het ontspannen van je zenuwstelsel\, en het vinden van innerlijke balans. Je lichaam is je belangrijkste ankerpunt\, en als je in een staat van stress verkeert\, raak je de verbinding met jezelf kwijt. Maar door je lichaam te ontspannen\, kun je jezelf weer vinden\, diepe zelfliefde ontwikkelen\, en je innerlijke balans herstellen. \nLocatie en Tijden: De day retreat vindt plaats bij SOULJOY SANCTUARY van 10:00-17:00. \nProgramma: \n\n10:00 – 10:30: Welkom en introductie van de workshop.\n10:30 – 11:00: Bewuste en meditatieve begeleide ademhalingsessie om het zenuwstelsel te kalmeren en ruimte te maken voor zelfliefde.\n11:00 – 11:30: Zelfliefde meditatie om verbinding te maken met je innerlijke kern.\n11:30 – 12:30: Yoga in combinatie met ademhalingstechnieken gericht op het vinden van innerlijke balans.\n12:30 – 13:00: Diepe begeleide relaxatie om het zenuwstelsel verder te ontspannen.\n13:00 – 14:30: Gezonde en heerlijke lunch.\n14:30 – 15:30: Ontspanning en wellness om je lichaam en geest volledig tot rust te laten komen.\n15:30 – 16:00: Meditatieve ademhalingsessie om innerlijke balans en zelfliefde verder te versterken.\n16:00 – 17:00: Vragen en de mogelijkheid tot napraten bij een kopje thee en versnaperingen.\n\nPrijs: \n€ 198 incl. 21% BTW\nHeerlijke lunch\, koffie\, thee\, en versnaperingen zijn inbegrepen.\nAnnulering en Verplaatsen: Bij annulering meer dan 48 uur voor de workshop kun je kosteloos doorschuiven naar een volgende datum. Een refund is niet mogelijk. Bij annulering binnen 48 uur voor de workshop bedragen de annuleringskosten €95. \nMeld je snel aan: plaatsen zijn beperkt!
URL:https://souljoy.be/event/day-retreat-zelfliefde-en-innerlijke-balans/
CATEGORIES:Day Retreats
ATTACH;FMTTYPE=image/jpeg:https://souljoy.be/wp-content/uploads/2024/03/AdobeStock_284497793-scaled.jpeg
END:VEVENT
BEGIN:VEVENT
DTSTART;TZID=UTC:20240807T080000
DTEND;TZID=UTC:20240807T170000
DTSTAMP:20260421T130836
CREATED:20240815T093311Z
LAST-MODIFIED:20240816T153345Z
UID:4314-1723017600-1723050000@souljoy.be
SUMMARY:Day Retreat: De Kracht van Dankbaarheid
DESCRIPTION:Workshop: De Kracht van Dankbaarheid \nTijdens de “De Kracht van Dankbaarheid” workshop leer je hoe je contact kunt maken met je innerlijke gevoelswereld door middel van dankbaarheid\, meditatie\, ademhaling\, en ontspanning. Je lichaam is de plaats waar jij het meest jezelf bent. Wanneer je in een staat van stress verkeert\, kan je lichaam zijn wijsheid niet met je delen en bevriest alles letterlijk. Maar wanneer je lichaam ontspant\, wordt het je veilige haven\, en kun je je openstellen voor jouw innerlijke wijsheid\, kracht\, en het diepe gevoel van dankbaarheid. \nLocatie en Tijden: De workshop vindt plaats bij SOULJOY SANCTUARY van 10:00-17:00. \nProgramma: \n\n10:00 – 10:30: Welkom en introductie van de workshop.\n10:30 – 11:00: Bewuste en meditatieve begeleide ademhalingsessie om je lichaam te openen voor dankbaarheid.\n11:00 – 11:30: Dankbaarheidsmeditatie om je innerlijke wereld te verkennen.\n11:30 – 12:30: Yoga in combinatie met bewuste ademhaling en het cultiveren van dankbaarheid.\n12:30 – 13:00: Diepe begeleide relaxatie en ontspanning van het zenuwstelsel.\n13:00 – 14:30: Gezonde en heerlijke lunch.\n14:30 – 15:30: Ontspanning en wellness om je lichaam en geest volledig tot rust te laten komen.\n15:30 – 16:00: Bewuste en meditatieve begeleide ademhalingsessie\, gericht op het versterken van je dankbaarheidsgevoel.\n16:00 – 17:00: Vragen en de mogelijkheid tot napraten bij een kopje thee en versnaperingen.\n\nPrijs: \n€ 198 incl. 21% BTW\nHeerlijke lunch\, koffie\, thee\, en versnaperingen zijn inbegrepen.\nAnnulering en Verplaatsen: Bij annulering meer dan 48 uur voor de workshop kun je kosteloos doorschuiven naar een volgende datum. Een refund is niet mogelijk. Bij annulering binnen 48 uur voor de workshop bedragen de annuleringskosten €95. \nMeld je snel aan: plaatsen zijn beperkt!
URL:https://souljoy.be/event/day-retreat-de-kracht-van-dankbaarheid/
CATEGORIES:Day Retreats
ATTACH;FMTTYPE=image/jpeg:https://souljoy.be/wp-content/uploads/2024/08/240109_Cime-204.jpg
END:VEVENT
END:VCALENDAR